BEGIN:VCALENDAR
VERSION:2.0
PRODID:-//pretix//pretix.eu//
BEGIN:VTIMEZONE
TZID:US/Eastern
BEGIN:STANDARD
DTSTART:20001029T030000
RRULE:FREQ=YEARLY;BYDAY=-1SU;BYMONTH=10;UNTIL=20061029T070000Z
TZNAME:EST
TZOFFSETFROM:-0400
TZOFFSETTO:-0500
END:STANDARD
BEGIN:STANDARD
DTSTART:20071104T030000
RRULE:FREQ=YEARLY;BYDAY=1SU;BYMONTH=11
TZNAME:EST
TZOFFSETFROM:-0400
TZOFFSETTO:-0500
END:STANDARD
BEGIN:DAYLIGHT
DTSTART:20000402T030000
RRULE:FREQ=YEARLY;BYDAY=1SU;BYMONTH=4;UNTIL=20060402T080000Z
TZNAME:EDT
TZOFFSETFROM:-0500
TZOFFSETTO:-0400
END:DAYLIGHT
BEGIN:DAYLIGHT
DTSTART:20070311T030000
RRULE:FREQ=YEARLY;BYDAY=2SU;BYMONTH=3
TZNAME:EDT
TZOFFSETFROM:-0500
TZOFFSETTO:-0400
END:DAYLIGHT
END:VTIMEZONE
BEGIN:VEVENT
UID:pretix-crca-StopKissPlay-4856760@tickets.conyersarts.org
DTSTART;TZID=US/Eastern:20260327T193000
DTEND;TZID=US/Eastern:20260327T213000
DESCRIPTION:Tickets: https://tickets.conyersarts.org/StopKissPlay/4856760/\
 nAdmission: 03/27/2026 7 p.m.\nOrganizer: Conyers Rockdale Council for the
  Arts
DTSTAMP:20260420T203833Z
LOCATION:910 Center Street\, Conyers\, Georgia 30012
SUMMARY:Stop Kiss
END:VEVENT
BEGIN:VEVENT
UID:pretix-crca-StopKissPlay-4856762@tickets.conyersarts.org
DTSTART;TZID=US/Eastern:20260328T150000
DTEND;TZID=US/Eastern:20260328T170000
DESCRIPTION:Tickets: https://tickets.conyersarts.org/StopKissPlay/4856762/\
 nAdmission: 03/28/2026 2:30 p.m.\nOrganizer: Conyers Rockdale Council for 
 the Arts
DTSTAMP:20260420T203833Z
LOCATION:910 Center Street\, Conyers\, Georgia 30012
SUMMARY:Stop Kiss
END:VEVENT
BEGIN:VEVENT
UID:pretix-crca-StopKissPlay-4856761@tickets.conyersarts.org
DTSTART;TZID=US/Eastern:20260328T193000
DTEND;TZID=US/Eastern:20260328T213000
DESCRIPTION:Tickets: https://tickets.conyersarts.org/StopKissPlay/4856761/\
 nAdmission: 03/28/2026 7 p.m.\nOrganizer: Conyers Rockdale Council for the
  Arts
DTSTAMP:20260420T203833Z
LOCATION:910 Center Street\, Conyers\, Georgia 30012
SUMMARY:Stop Kiss
END:VEVENT
BEGIN:VEVENT
UID:pretix-crca-StopKissPlay-4856763@tickets.conyersarts.org
DTSTART;TZID=US/Eastern:20260329T150000
DTEND;TZID=US/Eastern:20260329T170000
DESCRIPTION:Tickets: https://tickets.conyersarts.org/StopKissPlay/4856763/\
 nAdmission: 03/29/2026 2:30 p.m.\nOrganizer: Conyers Rockdale Council for 
 the Arts
DTSTAMP:20260420T203833Z
LOCATION:910 Center Street\, Conyers\, Georgia 30012
SUMMARY:Stop Kiss
END:VEVENT
BEGIN:VEVENT
UID:pretix-crca-motherhood-4858771@tickets.conyersarts.org
DTSTART;TZID=US/Eastern:20260508T193000
DTEND;TZID=US/Eastern:20260508T213000
DESCRIPTION:Tickets: https://tickets.conyersarts.org/motherhood/4858771/\nA
 dmission: 05/08/2026 7 p.m.\nOrganizer: Conyers Rockdale Council for the A
 rts
DTSTAMP:20260420T203833Z
LOCATION:910 Center Street\, Conyers\, Georgia 30012
SUMMARY:Motherhood Out Loud
END:VEVENT
BEGIN:VEVENT
UID:pretix-crca-motherhood-4858772@tickets.conyersarts.org
DTSTART;TZID=US/Eastern:20260509T150000
DTEND;TZID=US/Eastern:20260509T170000
DESCRIPTION:Tickets: https://tickets.conyersarts.org/motherhood/4858772/\nA
 dmission: 05/09/2026 2:30 p.m.\nOrganizer: Conyers Rockdale Council for th
 e Arts
DTSTAMP:20260420T203833Z
LOCATION:910 Center Street\, Conyers\, Georgia 30012
SUMMARY:Motherhood Out Loud
END:VEVENT
BEGIN:VEVENT
UID:pretix-crca-motherhood-4858773@tickets.conyersarts.org
DTSTART;TZID=US/Eastern:20260510T150000
DTEND;TZID=US/Eastern:20260510T170000
DESCRIPTION:Tickets: https://tickets.conyersarts.org/motherhood/4858773/\nA
 dmission: 05/10/2026 2:30 p.m.\nOrganizer: Conyers Rockdale Council for th
 e Arts
DTSTAMP:20260420T203833Z
LOCATION:910 Center Street\, Conyers\, Georgia 30012
SUMMARY:Motherhood Out Loud
END:VEVENT
BEGIN:VEVENT
UID:pretix-crca-HoldFast-4925619@tickets.conyersarts.org
DTSTART;TZID=US/Eastern:20260620T150000
DTEND;TZID=US/Eastern:20260620T170000
DESCRIPTION:Tickets: https://tickets.conyersarts.org/HoldFast/4925619/\nAdm
 ission: 06/20/2026 2:30 p.m.\nOrganizer: Conyers Rockdale Council for the 
 Arts
DTSTAMP:20260420T203833Z
LOCATION:910 Center Street\, Conyers\, Georgia 30012
SUMMARY:Hold Fast to Dreams
END:VEVENT
BEGIN:VEVENT
UID:pretix-crca-HoldFast-4925620@tickets.conyersarts.org
DTSTART;TZID=US/Eastern:20260620T193000
DTEND;TZID=US/Eastern:20260620T223000
DESCRIPTION:Tickets: https://tickets.conyersarts.org/HoldFast/4925620/\nAdm
 ission: 06/20/2026 7 p.m.\nOrganizer: Conyers Rockdale Council for the Art
 s
DTSTAMP:20260420T203833Z
LOCATION:910 Center Street\, Conyers\, Georgia 30012
SUMMARY:Hold Fast to Dreams
END:VEVENT
BEGIN:VEVENT
UID:pretix-crca-HoldFast-4925621@tickets.conyersarts.org
DTSTART;TZID=US/Eastern:20260621T150000
DTEND;TZID=US/Eastern:20260621T170000
DESCRIPTION:Tickets: https://tickets.conyersarts.org/HoldFast/4925621/\nAdm
 ission: 06/21/2026 2:30 p.m.\nOrganizer: Conyers Rockdale Council for the 
 Arts
DTSTAMP:20260420T203833Z
LOCATION:910 Center Street\, Conyers\, Georgia 30012
SUMMARY:Hold Fast to Dreams
END:VEVENT
END:VCALENDAR
